BEGIN:VCALENDAR
CALSCALE:GREGORIAN
VERSION:2.0
METHOD:PUBLISH 
X-WR-CALNAME:
BEGIN:VEVENT
DTSTART;TZID=Europe/Paris:20260529T200000
DTEND;TZID=Europe/Paris:20260529T210000
SUMMARY:Lorie - Party - Tournée
CATEGORIE:Concerts et musique
GEO:43.31522839787200;5.40447815567100
LOCATION:Le Dôme\, 48, av de Saint­-Just\, 13004 Marseille 4e\, France
URL:https://www.fest.fr/e/2001255
UID:2001255-1@fest.fr
END:VEVENT
END:VCALENDAR
