BEGIN:VCALENDAR
CALSCALE:GREGORIAN
VERSION:2.0
METHOD:PUBLISH 
X-WR-CALNAME:
BEGIN:VEVENT
DTSTART;TZID=Europe/Paris:20260327T200000
DTEND;TZID=Europe/Paris:20260327T210000
SUMMARY:Ben Mazué - Tournée des Zénith 2026
CATEGORIE:Concerts et musique
GEO:44.82475992199900;-0.53163122711400
LOCATION:Arkéa Arena\, 48-50, avenue Jean Alfonsea\, 33270 Floirac\, France
URL:https://www.fest.fr/e/2001226
UID:2001226-1@fest.fr
END:VEVENT
END:VCALENDAR
