BEGIN:VCALENDAR
CALSCALE:GREGORIAN
VERSION:2.0
METHOD:PUBLISH 
X-WR-CALNAME:
BEGIN:VEVENT
DTSTART;TZID=Europe/Paris:20260314T203000
DTEND;TZID=Europe/Paris:20260314T213000
SUMMARY:Sortez-Moi de Là !, Tournée
CATEGORIE:Spectacles et théâtre
GEO:47.23483949931500;6.02684869949000
LOCATION:Le Petit Kursaal\, 2, place du Théâtre\, 25000 Besançon\, France
URL:https://www.fest.fr/e/2000405
UID:2000405-1@fest.fr
END:VEVENT
END:VCALENDAR
