BEGIN:VCALENDAR
CALSCALE:GREGORIAN
VERSION:2.0
METHOD:PUBLISH 
X-WR-CALNAME:
BEGIN:VEVENT
DTSTART;TZID=Europe/Paris:20260311T200000
DTEND;TZID=Europe/Paris:20260311T210000
SUMMARY:Laurent Gerra - « se met à table ! » - Tournée
CATEGORIE:Spectacles et théâtre
GEO:47.60177382091400;1.32812990418000
LOCATION:Le Jeu de Paume\, 66, avenue de Châteaudun\, 41000 Blois\, France
URL:https://www.fest.fr/e/2000401
UID:2000401-1@fest.fr
END:VEVENT
END:VCALENDAR
