BEGIN:VCALENDAR
CALSCALE:GREGORIAN
VERSION:2.0
METHOD:PUBLISH 
X-WR-CALNAME:
BEGIN:VEVENT
DTSTART;TZID=Europe/Paris:20260307T203000
DTEND;TZID=Europe/Paris:20260307T213000
SUMMARY:Marine Leonardi - Mauvaise Graine - Tournée
CATEGORIE:Spectacles et théâtre
LOCATION:LE CADRAN - LE TANGRAM\, Boulevard de Normandie\, 27000 Évreux\, France
URL:https://www.fest.fr/e/2000400
UID:2000400-1@fest.fr
END:VEVENT
END:VCALENDAR
