BEGIN:VCALENDAR
CALSCALE:GREGORIAN
VERSION:2.0
METHOD:PUBLISH 
X-WR-CALNAME:
BEGIN:VEVENT
DTSTART;TZID=Europe/Paris:20251205T163000
DTEND;TZID=Europe/Paris:20251205T173000
SUMMARY:Marché de producteurs locaux du vendredi de Lababan - Pouldreuzic
CATEGORIE:Marchés, Foires et Salons
GEO:47.95789800000000;-4.38279900000000
LOCATION:Eglise de Lababan
Lababan\, 29710 Pouldreuzic\, France
URL:https://www.fest.fr/e/1998995
UID:1998995-1@fest.fr
END:VEVENT
BEGIN:VEVENT
DTSTART;TZID=Europe/Paris:20251212T163000
DTEND;TZID=Europe/Paris:20251212T173000
SUMMARY:Marché de producteurs locaux du vendredi de Lababan - Pouldreuzic
CATEGORIE:Marchés, Foires et Salons
GEO:47.95789800000000;-4.38279900000000
LOCATION:Eglise de Lababan
Lababan\, 29710 Pouldreuzic\, France
URL:https://www.fest.fr/e/1998995
UID:1998995-2@fest.fr
END:VEVENT
BEGIN:VEVENT
DTSTART;TZID=Europe/Paris:20251219T163000
DTEND;TZID=Europe/Paris:20251219T173000
SUMMARY:Marché de producteurs locaux du vendredi de Lababan - Pouldreuzic
CATEGORIE:Marchés, Foires et Salons
GEO:47.95789800000000;-4.38279900000000
LOCATION:Eglise de Lababan
Lababan\, 29710 Pouldreuzic\, France
URL:https://www.fest.fr/e/1998995
UID:1998995-3@fest.fr
END:VEVENT
BEGIN:VEVENT
DTSTART;TZID=Europe/Paris:20251226T163000
DTEND;TZID=Europe/Paris:20251226T173000
SUMMARY:Marché de producteurs locaux du vendredi de Lababan - Pouldreuzic
CATEGORIE:Marchés, Foires et Salons
GEO:47.95789800000000;-4.38279900000000
LOCATION:Eglise de Lababan
Lababan\, 29710 Pouldreuzic\, France
URL:https://www.fest.fr/e/1998995
UID:1998995-4@fest.fr
END:VEVENT
BEGIN:VEVENT
DTSTART;TZID=Europe/Paris:20260102T163000
DTEND;TZID=Europe/Paris:20260102T173000
SUMMARY:Marché de producteurs locaux du vendredi de Lababan - Pouldreuzic
CATEGORIE:Marchés, Foires et Salons
GEO:47.95789800000000;-4.38279900000000
LOCATION:Eglise de Lababan
Lababan\, 29710 Pouldreuzic\, France
URL:https://www.fest.fr/e/1998995
UID:1998995-5@fest.fr
END:VEVENT
BEGIN:VEVENT
DTSTART;TZID=Europe/Paris:20260109T163000
DTEND;TZID=Europe/Paris:20260109T173000
SUMMARY:Marché de producteurs locaux du vendredi de Lababan - Pouldreuzic
CATEGORIE:Marchés, Foires et Salons
GEO:47.95789800000000;-4.38279900000000
LOCATION:Eglise de Lababan
Lababan\, 29710 Pouldreuzic\, France
URL:https://www.fest.fr/e/1998995
UID:1998995-6@fest.fr
END:VEVENT
BEGIN:VEVENT
DTSTART;TZID=Europe/Paris:20260116T163000
DTEND;TZID=Europe/Paris:20260116T173000
SUMMARY:Marché de producteurs locaux du vendredi de Lababan - Pouldreuzic
CATEGORIE:Marchés, Foires et Salons
GEO:47.95789800000000;-4.38279900000000
LOCATION:Eglise de Lababan
Lababan\, 29710 Pouldreuzic\, France
URL:https://www.fest.fr/e/1998995
UID:1998995-7@fest.fr
END:VEVENT
BEGIN:VEVENT
DTSTART;TZID=Europe/Paris:20260123T163000
DTEND;TZID=Europe/Paris:20260123T173000
SUMMARY:Marché de producteurs locaux du vendredi de Lababan - Pouldreuzic
CATEGORIE:Marchés, Foires et Salons
GEO:47.95789800000000;-4.38279900000000
LOCATION:Eglise de Lababan
Lababan\, 29710 Pouldreuzic\, France
URL:https://www.fest.fr/e/1998995
UID:1998995-8@fest.fr
END:VEVENT
BEGIN:VEVENT
DTSTART;TZID=Europe/Paris:20260130T163000
DTEND;TZID=Europe/Paris:20260130T173000
SUMMARY:Marché de producteurs locaux du vendredi de Lababan - Pouldreuzic
CATEGORIE:Marchés, Foires et Salons
GEO:47.95789800000000;-4.38279900000000
LOCATION:Eglise de Lababan
Lababan\, 29710 Pouldreuzic\, France
URL:https://www.fest.fr/e/1998995
UID:1998995-9@fest.fr
END:VEVENT
BEGIN:VEVENT
DTSTART;TZID=Europe/Paris:20260206T163000
DTEND;TZID=Europe/Paris:20260206T173000
SUMMARY:Marché de producteurs locaux du vendredi de Lababan - Pouldreuzic
CATEGORIE:Marchés, Foires et Salons
GEO:47.95789800000000;-4.38279900000000
LOCATION:Eglise de Lababan
Lababan\, 29710 Pouldreuzic\, France
URL:https://www.fest.fr/e/1998995
UID:1998995-10@fest.fr
END:VEVENT
BEGIN:VEVENT
DTSTART;TZID=Europe/Paris:20260213T163000
DTEND;TZID=Europe/Paris:20260213T173000
SUMMARY:Marché de producteurs locaux du vendredi de Lababan - Pouldreuzic
CATEGORIE:Marchés, Foires et Salons
GEO:47.95789800000000;-4.38279900000000
LOCATION:Eglise de Lababan
Lababan\, 29710 Pouldreuzic\, France
URL:https://www.fest.fr/e/1998995
UID:1998995-11@fest.fr
END:VEVENT
BEGIN:VEVENT
DTSTART;TZID=Europe/Paris:20260220T163000
DTEND;TZID=Europe/Paris:20260220T173000
SUMMARY:Marché de producteurs locaux du vendredi de Lababan - Pouldreuzic
CATEGORIE:Marchés, Foires et Salons
GEO:47.95789800000000;-4.38279900000000
LOCATION:Eglise de Lababan
Lababan\, 29710 Pouldreuzic\, France
URL:https://www.fest.fr/e/1998995
UID:1998995-12@fest.fr
END:VEVENT
BEGIN:VEVENT
DTSTART;TZID=Europe/Paris:20260227T163000
DTEND;TZID=Europe/Paris:20260227T173000
SUMMARY:Marché de producteurs locaux du vendredi de Lababan - Pouldreuzic
CATEGORIE:Marchés, Foires et Salons
GEO:47.95789800000000;-4.38279900000000
LOCATION:Eglise de Lababan
Lababan\, 29710 Pouldreuzic\, France
URL:https://www.fest.fr/e/1998995
UID:1998995-13@fest.fr
END:VEVENT
BEGIN:VEVENT
DTSTART;TZID=Europe/Paris:20260306T163000
DTEND;TZID=Europe/Paris:20260306T173000
SUMMARY:Marché de producteurs locaux du vendredi de Lababan - Pouldreuzic
CATEGORIE:Marchés, Foires et Salons
GEO:47.95789800000000;-4.38279900000000
LOCATION:Eglise de Lababan
Lababan\, 29710 Pouldreuzic\, France
URL:https://www.fest.fr/e/1998995
UID:1998995-14@fest.fr
END:VEVENT
BEGIN:VEVENT
DTSTART;TZID=Europe/Paris:20260313T163000
DTEND;TZID=Europe/Paris:20260313T173000
SUMMARY:Marché de producteurs locaux du vendredi de Lababan - Pouldreuzic
CATEGORIE:Marchés, Foires et Salons
GEO:47.95789800000000;-4.38279900000000
LOCATION:Eglise de Lababan
Lababan\, 29710 Pouldreuzic\, France
URL:https://www.fest.fr/e/1998995
UID:1998995-15@fest.fr
END:VEVENT
BEGIN:VEVENT
DTSTART;TZID=Europe/Paris:20260320T163000
DTEND;TZID=Europe/Paris:20260320T173000
SUMMARY:Marché de producteurs locaux du vendredi de Lababan - Pouldreuzic
CATEGORIE:Marchés, Foires et Salons
GEO:47.95789800000000;-4.38279900000000
LOCATION:Eglise de Lababan
Lababan\, 29710 Pouldreuzic\, France
URL:https://www.fest.fr/e/1998995
UID:1998995-16@fest.fr
END:VEVENT
BEGIN:VEVENT
DTSTART;TZID=Europe/Paris:20260327T163000
DTEND;TZID=Europe/Paris:20260327T173000
SUMMARY:Marché de producteurs locaux du vendredi de Lababan - Pouldreuzic
CATEGORIE:Marchés, Foires et Salons
GEO:47.95789800000000;-4.38279900000000
LOCATION:Eglise de Lababan
Lababan\, 29710 Pouldreuzic\, France
URL:https://www.fest.fr/e/1998995
UID:1998995-17@fest.fr
END:VEVENT
BEGIN:VEVENT
DTSTART;TZID=Europe/Paris:20260403T163000
DTEND;TZID=Europe/Paris:20260403T173000
SUMMARY:Marché de producteurs locaux du vendredi de Lababan - Pouldreuzic
CATEGORIE:Marchés, Foires et Salons
GEO:47.95789800000000;-4.38279900000000
LOCATION:Eglise de Lababan
Lababan\, 29710 Pouldreuzic\, France
URL:https://www.fest.fr/e/1998995
UID:1998995-18@fest.fr
END:VEVENT
BEGIN:VEVENT
DTSTART;TZID=Europe/Paris:20260410T163000
DTEND;TZID=Europe/Paris:20260410T173000
SUMMARY:Marché de producteurs locaux du vendredi de Lababan - Pouldreuzic
CATEGORIE:Marchés, Foires et Salons
GEO:47.95789800000000;-4.38279900000000
LOCATION:Eglise de Lababan
Lababan\, 29710 Pouldreuzic\, France
URL:https://www.fest.fr/e/1998995
UID:1998995-19@fest.fr
END:VEVENT
BEGIN:VEVENT
DTSTART;TZID=Europe/Paris:20260417T163000
DTEND;TZID=Europe/Paris:20260417T173000
SUMMARY:Marché de producteurs locaux du vendredi de Lababan - Pouldreuzic
CATEGORIE:Marchés, Foires et Salons
GEO:47.95789800000000;-4.38279900000000
LOCATION:Eglise de Lababan
Lababan\, 29710 Pouldreuzic\, France
URL:https://www.fest.fr/e/1998995
UID:1998995-20@fest.fr
END:VEVENT
BEGIN:VEVENT
DTSTART;TZID=Europe/Paris:20260424T163000
DTEND;TZID=Europe/Paris:20260424T173000
SUMMARY:Marché de producteurs locaux du vendredi de Lababan - Pouldreuzic
CATEGORIE:Marchés, Foires et Salons
GEO:47.95789800000000;-4.38279900000000
LOCATION:Eglise de Lababan
Lababan\, 29710 Pouldreuzic\, France
URL:https://www.fest.fr/e/1998995
UID:1998995-21@fest.fr
END:VEVENT
BEGIN:VEVENT
DTSTART;TZID=Europe/Paris:20260501T163000
DTEND;TZID=Europe/Paris:20260501T173000
SUMMARY:Marché de producteurs locaux du vendredi de Lababan - Pouldreuzic
CATEGORIE:Marchés, Foires et Salons
GEO:47.95789800000000;-4.38279900000000
LOCATION:Eglise de Lababan
Lababan\, 29710 Pouldreuzic\, France
URL:https://www.fest.fr/e/1998995
UID:1998995-22@fest.fr
END:VEVENT
BEGIN:VEVENT
DTSTART;TZID=Europe/Paris:20260508T163000
DTEND;TZID=Europe/Paris:20260508T173000
SUMMARY:Marché de producteurs locaux du vendredi de Lababan - Pouldreuzic
CATEGORIE:Marchés, Foires et Salons
GEO:47.95789800000000;-4.38279900000000
LOCATION:Eglise de Lababan
Lababan\, 29710 Pouldreuzic\, France
URL:https://www.fest.fr/e/1998995
UID:1998995-23@fest.fr
END:VEVENT
BEGIN:VEVENT
DTSTART;TZID=Europe/Paris:20260515T163000
DTEND;TZID=Europe/Paris:20260515T173000
SUMMARY:Marché de producteurs locaux du vendredi de Lababan - Pouldreuzic
CATEGORIE:Marchés, Foires et Salons
GEO:47.95789800000000;-4.38279900000000
LOCATION:Eglise de Lababan
Lababan\, 29710 Pouldreuzic\, France
URL:https://www.fest.fr/e/1998995
UID:1998995-24@fest.fr
END:VEVENT
BEGIN:VEVENT
DTSTART;TZID=Europe/Paris:20260522T163000
DTEND;TZID=Europe/Paris:20260522T173000
SUMMARY:Marché de producteurs locaux du vendredi de Lababan - Pouldreuzic
CATEGORIE:Marchés, Foires et Salons
GEO:47.95789800000000;-4.38279900000000
LOCATION:Eglise de Lababan
Lababan\, 29710 Pouldreuzic\, France
URL:https://www.fest.fr/e/1998995
UID:1998995-25@fest.fr
END:VEVENT
BEGIN:VEVENT
DTSTART;TZID=Europe/Paris:20260529T163000
DTEND;TZID=Europe/Paris:20260529T173000
SUMMARY:Marché de producteurs locaux du vendredi de Lababan - Pouldreuzic
CATEGORIE:Marchés, Foires et Salons
GEO:47.95789800000000;-4.38279900000000
LOCATION:Eglise de Lababan
Lababan\, 29710 Pouldreuzic\, France
URL:https://www.fest.fr/e/1998995
UID:1998995-26@fest.fr
END:VEVENT
BEGIN:VEVENT
DTSTART;TZID=Europe/Paris:20260605T163000
DTEND;TZID=Europe/Paris:20260605T173000
SUMMARY:Marché de producteurs locaux du vendredi de Lababan - Pouldreuzic
CATEGORIE:Marchés, Foires et Salons
GEO:47.95789800000000;-4.38279900000000
LOCATION:Eglise de Lababan
Lababan\, 29710 Pouldreuzic\, France
URL:https://www.fest.fr/e/1998995
UID:1998995-27@fest.fr
END:VEVENT
BEGIN:VEVENT
DTSTART;TZID=Europe/Paris:20260612T163000
DTEND;TZID=Europe/Paris:20260612T173000
SUMMARY:Marché de producteurs locaux du vendredi de Lababan - Pouldreuzic
CATEGORIE:Marchés, Foires et Salons
GEO:47.95789800000000;-4.38279900000000
LOCATION:Eglise de Lababan
Lababan\, 29710 Pouldreuzic\, France
URL:https://www.fest.fr/e/1998995
UID:1998995-28@fest.fr
END:VEVENT
BEGIN:VEVENT
DTSTART;TZID=Europe/Paris:20260619T163000
DTEND;TZID=Europe/Paris:20260619T173000
SUMMARY:Marché de producteurs locaux du vendredi de Lababan - Pouldreuzic
CATEGORIE:Marchés, Foires et Salons
GEO:47.95789800000000;-4.38279900000000
LOCATION:Eglise de Lababan
Lababan\, 29710 Pouldreuzic\, France
URL:https://www.fest.fr/e/1998995
UID:1998995-29@fest.fr
END:VEVENT
BEGIN:VEVENT
DTSTART;TZID=Europe/Paris:20260626T163000
DTEND;TZID=Europe/Paris:20260626T173000
SUMMARY:Marché de producteurs locaux du vendredi de Lababan - Pouldreuzic
CATEGORIE:Marchés, Foires et Salons
GEO:47.95789800000000;-4.38279900000000
LOCATION:Eglise de Lababan
Lababan\, 29710 Pouldreuzic\, France
URL:https://www.fest.fr/e/1998995
UID:1998995-30@fest.fr
END:VEVENT
BEGIN:VEVENT
DTSTART;TZID=Europe/Paris:20260703T163000
DTEND;TZID=Europe/Paris:20260703T173000
SUMMARY:Marché de producteurs locaux du vendredi de Lababan - Pouldreuzic
CATEGORIE:Marchés, Foires et Salons
GEO:47.95789800000000;-4.38279900000000
LOCATION:Eglise de Lababan
Lababan\, 29710 Pouldreuzic\, France
URL:https://www.fest.fr/e/1998995
UID:1998995-31@fest.fr
END:VEVENT
BEGIN:VEVENT
DTSTART;TZID=Europe/Paris:20260710T163000
DTEND;TZID=Europe/Paris:20260710T173000
SUMMARY:Marché de producteurs locaux du vendredi de Lababan - Pouldreuzic
CATEGORIE:Marchés, Foires et Salons
GEO:47.95789800000000;-4.38279900000000
LOCATION:Eglise de Lababan
Lababan\, 29710 Pouldreuzic\, France
URL:https://www.fest.fr/e/1998995
UID:1998995-32@fest.fr
END:VEVENT
BEGIN:VEVENT
DTSTART;TZID=Europe/Paris:20260717T163000
DTEND;TZID=Europe/Paris:20260717T173000
SUMMARY:Marché de producteurs locaux du vendredi de Lababan - Pouldreuzic
CATEGORIE:Marchés, Foires et Salons
GEO:47.95789800000000;-4.38279900000000
LOCATION:Eglise de Lababan
Lababan\, 29710 Pouldreuzic\, France
URL:https://www.fest.fr/e/1998995
UID:1998995-33@fest.fr
END:VEVENT
BEGIN:VEVENT
DTSTART;TZID=Europe/Paris:20260724T163000
DTEND;TZID=Europe/Paris:20260724T173000
SUMMARY:Marché de producteurs locaux du vendredi de Lababan - Pouldreuzic
CATEGORIE:Marchés, Foires et Salons
GEO:47.95789800000000;-4.38279900000000
LOCATION:Eglise de Lababan
Lababan\, 29710 Pouldreuzic\, France
URL:https://www.fest.fr/e/1998995
UID:1998995-34@fest.fr
END:VEVENT
BEGIN:VEVENT
DTSTART;TZID=Europe/Paris:20260731T163000
DTEND;TZID=Europe/Paris:20260731T173000
SUMMARY:Marché de producteurs locaux du vendredi de Lababan - Pouldreuzic
CATEGORIE:Marchés, Foires et Salons
GEO:47.95789800000000;-4.38279900000000
LOCATION:Eglise de Lababan
Lababan\, 29710 Pouldreuzic\, France
URL:https://www.fest.fr/e/1998995
UID:1998995-35@fest.fr
END:VEVENT
BEGIN:VEVENT
DTSTART;TZID=Europe/Paris:20260807T163000
DTEND;TZID=Europe/Paris:20260807T173000
SUMMARY:Marché de producteurs locaux du vendredi de Lababan - Pouldreuzic
CATEGORIE:Marchés, Foires et Salons
GEO:47.95789800000000;-4.38279900000000
LOCATION:Eglise de Lababan
Lababan\, 29710 Pouldreuzic\, France
URL:https://www.fest.fr/e/1998995
UID:1998995-36@fest.fr
END:VEVENT
BEGIN:VEVENT
DTSTART;TZID=Europe/Paris:20260814T163000
DTEND;TZID=Europe/Paris:20260814T173000
SUMMARY:Marché de producteurs locaux du vendredi de Lababan - Pouldreuzic
CATEGORIE:Marchés, Foires et Salons
GEO:47.95789800000000;-4.38279900000000
LOCATION:Eglise de Lababan
Lababan\, 29710 Pouldreuzic\, France
URL:https://www.fest.fr/e/1998995
UID:1998995-37@fest.fr
END:VEVENT
BEGIN:VEVENT
DTSTART;TZID=Europe/Paris:20260821T163000
DTEND;TZID=Europe/Paris:20260821T173000
SUMMARY:Marché de producteurs locaux du vendredi de Lababan - Pouldreuzic
CATEGORIE:Marchés, Foires et Salons
GEO:47.95789800000000;-4.38279900000000
LOCATION:Eglise de Lababan
Lababan\, 29710 Pouldreuzic\, France
URL:https://www.fest.fr/e/1998995
UID:1998995-38@fest.fr
END:VEVENT
BEGIN:VEVENT
DTSTART;TZID=Europe/Paris:20260828T163000
DTEND;TZID=Europe/Paris:20260828T173000
SUMMARY:Marché de producteurs locaux du vendredi de Lababan - Pouldreuzic
CATEGORIE:Marchés, Foires et Salons
GEO:47.95789800000000;-4.38279900000000
LOCATION:Eglise de Lababan
Lababan\, 29710 Pouldreuzic\, France
URL:https://www.fest.fr/e/1998995
UID:1998995-39@fest.fr
END:VEVENT
BEGIN:VEVENT
DTSTART;TZID=Europe/Paris:20260904T163000
DTEND;TZID=Europe/Paris:20260904T173000
SUMMARY:Marché de producteurs locaux du vendredi de Lababan - Pouldreuzic
CATEGORIE:Marchés, Foires et Salons
GEO:47.95789800000000;-4.38279900000000
LOCATION:Eglise de Lababan
Lababan\, 29710 Pouldreuzic\, France
URL:https://www.fest.fr/e/1998995
UID:1998995-40@fest.fr
END:VEVENT
BEGIN:VEVENT
DTSTART;TZID=Europe/Paris:20260911T163000
DTEND;TZID=Europe/Paris:20260911T173000
SUMMARY:Marché de producteurs locaux du vendredi de Lababan - Pouldreuzic
CATEGORIE:Marchés, Foires et Salons
GEO:47.95789800000000;-4.38279900000000
LOCATION:Eglise de Lababan
Lababan\, 29710 Pouldreuzic\, France
URL:https://www.fest.fr/e/1998995
UID:1998995-41@fest.fr
END:VEVENT
BEGIN:VEVENT
DTSTART;TZID=Europe/Paris:20260918T163000
DTEND;TZID=Europe/Paris:20260918T173000
SUMMARY:Marché de producteurs locaux du vendredi de Lababan - Pouldreuzic
CATEGORIE:Marchés, Foires et Salons
GEO:47.95789800000000;-4.38279900000000
LOCATION:Eglise de Lababan
Lababan\, 29710 Pouldreuzic\, France
URL:https://www.fest.fr/e/1998995
UID:1998995-42@fest.fr
END:VEVENT
BEGIN:VEVENT
DTSTART;TZID=Europe/Paris:20260925T163000
DTEND;TZID=Europe/Paris:20260925T173000
SUMMARY:Marché de producteurs locaux du vendredi de Lababan - Pouldreuzic
CATEGORIE:Marchés, Foires et Salons
GEO:47.95789800000000;-4.38279900000000
LOCATION:Eglise de Lababan
Lababan\, 29710 Pouldreuzic\, France
URL:https://www.fest.fr/e/1998995
UID:1998995-43@fest.fr
END:VEVENT
BEGIN:VEVENT
DTSTART;TZID=Europe/Paris:20261002T163000
DTEND;TZID=Europe/Paris:20261002T173000
SUMMARY:Marché de producteurs locaux du vendredi de Lababan - Pouldreuzic
CATEGORIE:Marchés, Foires et Salons
GEO:47.95789800000000;-4.38279900000000
LOCATION:Eglise de Lababan
Lababan\, 29710 Pouldreuzic\, France
URL:https://www.fest.fr/e/1998995
UID:1998995-44@fest.fr
END:VEVENT
BEGIN:VEVENT
DTSTART;TZID=Europe/Paris:20261009T163000
DTEND;TZID=Europe/Paris:20261009T173000
SUMMARY:Marché de producteurs locaux du vendredi de Lababan - Pouldreuzic
CATEGORIE:Marchés, Foires et Salons
GEO:47.95789800000000;-4.38279900000000
LOCATION:Eglise de Lababan
Lababan\, 29710 Pouldreuzic\, France
URL:https://www.fest.fr/e/1998995
UID:1998995-45@fest.fr
END:VEVENT
BEGIN:VEVENT
DTSTART;TZID=Europe/Paris:20261016T163000
DTEND;TZID=Europe/Paris:20261016T173000
SUMMARY:Marché de producteurs locaux du vendredi de Lababan - Pouldreuzic
CATEGORIE:Marchés, Foires et Salons
GEO:47.95789800000000;-4.38279900000000
LOCATION:Eglise de Lababan
Lababan\, 29710 Pouldreuzic\, France
URL:https://www.fest.fr/e/1998995
UID:1998995-46@fest.fr
END:VEVENT
BEGIN:VEVENT
DTSTART;TZID=Europe/Paris:20261023T163000
DTEND;TZID=Europe/Paris:20261023T173000
SUMMARY:Marché de producteurs locaux du vendredi de Lababan - Pouldreuzic
CATEGORIE:Marchés, Foires et Salons
GEO:47.95789800000000;-4.38279900000000
LOCATION:Eglise de Lababan
Lababan\, 29710 Pouldreuzic\, France
URL:https://www.fest.fr/e/1998995
UID:1998995-47@fest.fr
END:VEVENT
BEGIN:VEVENT
DTSTART;TZID=Europe/Paris:20261030T163000
DTEND;TZID=Europe/Paris:20261030T173000
SUMMARY:Marché de producteurs locaux du vendredi de Lababan - Pouldreuzic
CATEGORIE:Marchés, Foires et Salons
GEO:47.95789800000000;-4.38279900000000
LOCATION:Eglise de Lababan
Lababan\, 29710 Pouldreuzic\, France
URL:https://www.fest.fr/e/1998995
UID:1998995-48@fest.fr
END:VEVENT
BEGIN:VEVENT
DTSTART;TZID=Europe/Paris:20261106T163000
DTEND;TZID=Europe/Paris:20261106T173000
SUMMARY:Marché de producteurs locaux du vendredi de Lababan - Pouldreuzic
CATEGORIE:Marchés, Foires et Salons
GEO:47.95789800000000;-4.38279900000000
LOCATION:Eglise de Lababan
Lababan\, 29710 Pouldreuzic\, France
URL:https://www.fest.fr/e/1998995
UID:1998995-49@fest.fr
END:VEVENT
BEGIN:VEVENT
DTSTART;TZID=Europe/Paris:20261113T163000
DTEND;TZID=Europe/Paris:20261113T173000
SUMMARY:Marché de producteurs locaux du vendredi de Lababan - Pouldreuzic
CATEGORIE:Marchés, Foires et Salons
GEO:47.95789800000000;-4.38279900000000
LOCATION:Eglise de Lababan
Lababan\, 29710 Pouldreuzic\, France
URL:https://www.fest.fr/e/1998995
UID:1998995-50@fest.fr
END:VEVENT
BEGIN:VEVENT
DTSTART;TZID=Europe/Paris:20261120T163000
DTEND;TZID=Europe/Paris:20261120T173000
SUMMARY:Marché de producteurs locaux du vendredi de Lababan - Pouldreuzic
CATEGORIE:Marchés, Foires et Salons
GEO:47.95789800000000;-4.38279900000000
LOCATION:Eglise de Lababan
Lababan\, 29710 Pouldreuzic\, France
URL:https://www.fest.fr/e/1998995
UID:1998995-51@fest.fr
END:VEVENT
BEGIN:VEVENT
DTSTART;TZID=Europe/Paris:20261127T163000
DTEND;TZID=Europe/Paris:20261127T173000
SUMMARY:Marché de producteurs locaux du vendredi de Lababan - Pouldreuzic
CATEGORIE:Marchés, Foires et Salons
GEO:47.95789800000000;-4.38279900000000
LOCATION:Eglise de Lababan
Lababan\, 29710 Pouldreuzic\, France
URL:https://www.fest.fr/e/1998995
UID:1998995-52@fest.fr
END:VEVENT
BEGIN:VEVENT
DTSTART;TZID=Europe/Paris:20261204T163000
DTEND;TZID=Europe/Paris:20261204T173000
SUMMARY:Marché de producteurs locaux du vendredi de Lababan - Pouldreuzic
CATEGORIE:Marchés, Foires et Salons
GEO:47.95789800000000;-4.38279900000000
LOCATION:Eglise de Lababan
Lababan\, 29710 Pouldreuzic\, France
URL:https://www.fest.fr/e/1998995
UID:1998995-53@fest.fr
END:VEVENT
BEGIN:VEVENT
DTSTART;TZID=Europe/Paris:20261211T163000
DTEND;TZID=Europe/Paris:20261211T173000
SUMMARY:Marché de producteurs locaux du vendredi de Lababan - Pouldreuzic
CATEGORIE:Marchés, Foires et Salons
GEO:47.95789800000000;-4.38279900000000
LOCATION:Eglise de Lababan
Lababan\, 29710 Pouldreuzic\, France
URL:https://www.fest.fr/e/1998995
UID:1998995-54@fest.fr
END:VEVENT
BEGIN:VEVENT
DTSTART;TZID=Europe/Paris:20261218T163000
DTEND;TZID=Europe/Paris:20261218T173000
SUMMARY:Marché de producteurs locaux du vendredi de Lababan - Pouldreuzic
CATEGORIE:Marchés, Foires et Salons
GEO:47.95789800000000;-4.38279900000000
LOCATION:Eglise de Lababan
Lababan\, 29710 Pouldreuzic\, France
URL:https://www.fest.fr/e/1998995
UID:1998995-55@fest.fr
END:VEVENT
BEGIN:VEVENT
DTSTART;TZID=Europe/Paris:20261225T163000
DTEND;TZID=Europe/Paris:20261225T173000
SUMMARY:Marché de producteurs locaux du vendredi de Lababan - Pouldreuzic
CATEGORIE:Marchés, Foires et Salons
GEO:47.95789800000000;-4.38279900000000
LOCATION:Eglise de Lababan
Lababan\, 29710 Pouldreuzic\, France
URL:https://www.fest.fr/e/1998995
UID:1998995-56@fest.fr
END:VEVENT
BEGIN:VEVENT
DTSTART;TZID=Europe/Paris:20270101T163000
DTEND;TZID=Europe/Paris:20270101T173000
SUMMARY:Marché de producteurs locaux du vendredi de Lababan - Pouldreuzic
CATEGORIE:Marchés, Foires et Salons
GEO:47.95789800000000;-4.38279900000000
LOCATION:Eglise de Lababan
Lababan\, 29710 Pouldreuzic\, France
URL:https://www.fest.fr/e/1998995
UID:1998995-57@fest.fr
END:VEVENT
END:VCALENDAR
