BEGIN:VCALENDAR
CALSCALE:GREGORIAN
VERSION:2.0
METHOD:PUBLISH 
X-WR-CALNAME:
BEGIN:VEVENT
DTSTART;TZID=Europe/Paris:20260322T170000
DTEND;TZID=Europe/Paris:20260322T180000
SUMMARY:Kendji Girac - Nos 10 Ans - Tournée
CATEGORIE:Concerts et musique
GEO:45.58383052965300;5.89950552246900
LOCATION:Le Phare\, 800, av du Grand Ariétaz\, 73000 Chambéry\, France
URL:https://www.fest.fr/e/1998142
UID:1998142-1@fest.fr
END:VEVENT
END:VCALENDAR
