BEGIN:VCALENDAR
CALSCALE:GREGORIAN
VERSION:2.0
METHOD:PUBLISH 
X-WR-CALNAME:
BEGIN:VEVENT
DTSTART;TZID=Europe/Paris:20260304T200000
DTEND;TZID=Europe/Paris:20260304T210000
SUMMARY:Boulevard des Airs - Tournée
CATEGORIE:Concerts et musique
GEO:48.10641757143400;-1.67672651986600
LOCATION:Le Liberté\, Esplanade du Général de Gaulle\, 35000 Rennes\, France
URL:https://www.fest.fr/e/1997169
UID:1997169-1@fest.fr
END:VEVENT
END:VCALENDAR
