BEGIN:VCALENDAR
CALSCALE:GREGORIAN
VERSION:2.0
METHOD:PUBLISH 
X-WR-CALNAME:
BEGIN:VEVENT
DTSTART;TZID=Europe/Paris:20260315T163000
DTEND;TZID=Europe/Paris:20260315T173000
SUMMARY:Michel Jonasz - Soul Tour
CATEGORIE:Concerts et musique
GEO:47.21307708601300;-1.54279391930500
LOCATION:Cité des Congrès - Grand Auditorium\, 5, rue de Valmy\, 44000 Nantes\, France
URL:https://www.fest.fr/e/1997110
UID:1997110-1@fest.fr
END:VEVENT
END:VCALENDAR
