BEGIN:VCALENDAR
CALSCALE:GREGORIAN
VERSION:2.0
METHOD:PUBLISH 
X-WR-CALNAME:
BEGIN:VEVENT
DTSTART;TZID=Europe/Paris:20260422T150000
DTEND;TZID=Europe/Paris:20260422T160000
SUMMARY:La Voie de l'Ecuyère - Académie Equestre de Versailles
CATEGORIE:Spectacles et théâtre
GEO:48.80313929265700;2.12653615464900
LOCATION:Grande Ecurie du Château de Versailles\, Avenue Rockfeller\, 78000 Versailles\, France
URL:https://www.fest.fr/e/1996893
UID:1996893-1@fest.fr
END:VEVENT
BEGIN:VEVENT
DTSTART;TZID=Europe/Paris:20260425T180000
DTEND;TZID=Europe/Paris:20260425T190000
SUMMARY:La Voie de l'Ecuyère - Académie Equestre de Versailles
CATEGORIE:Spectacles et théâtre
GEO:48.80313929265700;2.12653615464900
LOCATION:Grande Ecurie du Château de Versailles\, Avenue Rockfeller\, 78000 Versailles\, France
URL:https://www.fest.fr/e/1996893
UID:1996893-2@fest.fr
END:VEVENT
BEGIN:VEVENT
DTSTART;TZID=Europe/Paris:20260426T150000
DTEND;TZID=Europe/Paris:20260426T160000
SUMMARY:La Voie de l'Ecuyère - Académie Equestre de Versailles
CATEGORIE:Spectacles et théâtre
GEO:48.80313929265700;2.12653615464900
LOCATION:Grande Ecurie du Château de Versailles\, Avenue Rockfeller\, 78000 Versailles\, France
URL:https://www.fest.fr/e/1996893
UID:1996893-3@fest.fr
END:VEVENT
BEGIN:VEVENT
DTSTART;TZID=Europe/Paris:20260429T150000
DTEND;TZID=Europe/Paris:20260429T160000
SUMMARY:La Voie de l'Ecuyère - Académie Equestre de Versailles
CATEGORIE:Spectacles et théâtre
GEO:48.80313929265700;2.12653615464900
LOCATION:Grande Ecurie du Château de Versailles\, Avenue Rockfeller\, 78000 Versailles\, France
URL:https://www.fest.fr/e/1996893
UID:1996893-4@fest.fr
END:VEVENT
BEGIN:VEVENT
DTSTART;TZID=Europe/Paris:20260502T180000
DTEND;TZID=Europe/Paris:20260502T190000
SUMMARY:La Voie de l'Ecuyère - Académie Equestre de Versailles
CATEGORIE:Spectacles et théâtre
GEO:48.80313929265700;2.12653615464900
LOCATION:Grande Ecurie du Château de Versailles\, Avenue Rockfeller\, 78000 Versailles\, France
URL:https://www.fest.fr/e/1996893
UID:1996893-5@fest.fr
END:VEVENT
BEGIN:VEVENT
DTSTART;TZID=Europe/Paris:20260503T150000
DTEND;TZID=Europe/Paris:20260503T160000
SUMMARY:La Voie de l'Ecuyère - Académie Equestre de Versailles
CATEGORIE:Spectacles et théâtre
GEO:48.80313929265700;2.12653615464900
LOCATION:Grande Ecurie du Château de Versailles\, Avenue Rockfeller\, 78000 Versailles\, France
URL:https://www.fest.fr/e/1996893
UID:1996893-6@fest.fr
END:VEVENT
BEGIN:VEVENT
DTSTART;TZID=Europe/Paris:20260509T180000
DTEND;TZID=Europe/Paris:20260509T190000
SUMMARY:La Voie de l'Ecuyère - Académie Equestre de Versailles
CATEGORIE:Spectacles et théâtre
GEO:48.80313929265700;2.12653615464900
LOCATION:Grande Ecurie du Château de Versailles\, Avenue Rockfeller\, 78000 Versailles\, France
URL:https://www.fest.fr/e/1996893
UID:1996893-7@fest.fr
END:VEVENT
BEGIN:VEVENT
DTSTART;TZID=Europe/Paris:20260510T150000
DTEND;TZID=Europe/Paris:20260510T160000
SUMMARY:La Voie de l'Ecuyère - Académie Equestre de Versailles
CATEGORIE:Spectacles et théâtre
GEO:48.80313929265700;2.12653615464900
LOCATION:Grande Ecurie du Château de Versailles\, Avenue Rockfeller\, 78000 Versailles\, France
URL:https://www.fest.fr/e/1996893
UID:1996893-8@fest.fr
END:VEVENT
BEGIN:VEVENT
DTSTART;TZID=Europe/Paris:20260516T180000
DTEND;TZID=Europe/Paris:20260516T190000
SUMMARY:La Voie de l'Ecuyère - Académie Equestre de Versailles
CATEGORIE:Spectacles et théâtre
GEO:48.80313929265700;2.12653615464900
LOCATION:Grande Ecurie du Château de Versailles\, Avenue Rockfeller\, 78000 Versailles\, France
URL:https://www.fest.fr/e/1996893
UID:1996893-9@fest.fr
END:VEVENT
BEGIN:VEVENT
DTSTART;TZID=Europe/Paris:20260517T150000
DTEND;TZID=Europe/Paris:20260517T160000
SUMMARY:La Voie de l'Ecuyère - Académie Equestre de Versailles
CATEGORIE:Spectacles et théâtre
GEO:48.80313929265700;2.12653615464900
LOCATION:Grande Ecurie du Château de Versailles\, Avenue Rockfeller\, 78000 Versailles\, France
URL:https://www.fest.fr/e/1996893
UID:1996893-10@fest.fr
END:VEVENT
BEGIN:VEVENT
DTSTART;TZID=Europe/Paris:20260523T180000
DTEND;TZID=Europe/Paris:20260523T190000
SUMMARY:La Voie de l'Ecuyère - Académie Equestre de Versailles
CATEGORIE:Spectacles et théâtre
GEO:48.80313929265700;2.12653615464900
LOCATION:Grande Ecurie du Château de Versailles\, Avenue Rockfeller\, 78000 Versailles\, France
URL:https://www.fest.fr/e/1996893
UID:1996893-11@fest.fr
END:VEVENT
BEGIN:VEVENT
DTSTART;TZID=Europe/Paris:20260524T150000
DTEND;TZID=Europe/Paris:20260524T160000
SUMMARY:La Voie de l'Ecuyère - Académie Equestre de Versailles
CATEGORIE:Spectacles et théâtre
GEO:48.80313929265700;2.12653615464900
LOCATION:Grande Ecurie du Château de Versailles\, Avenue Rockfeller\, 78000 Versailles\, France
URL:https://www.fest.fr/e/1996893
UID:1996893-12@fest.fr
END:VEVENT
BEGIN:VEVENT
DTSTART;TZID=Europe/Paris:20260530T180000
DTEND;TZID=Europe/Paris:20260530T190000
SUMMARY:La Voie de l'Ecuyère - Académie Equestre de Versailles
CATEGORIE:Spectacles et théâtre
GEO:48.80313929265700;2.12653615464900
LOCATION:Grande Ecurie du Château de Versailles\, Avenue Rockfeller\, 78000 Versailles\, France
URL:https://www.fest.fr/e/1996893
UID:1996893-13@fest.fr
END:VEVENT
BEGIN:VEVENT
DTSTART;TZID=Europe/Paris:20260531T150000
DTEND;TZID=Europe/Paris:20260531T160000
SUMMARY:La Voie de l'Ecuyère - Académie Equestre de Versailles
CATEGORIE:Spectacles et théâtre
GEO:48.80313929265700;2.12653615464900
LOCATION:Grande Ecurie du Château de Versailles\, Avenue Rockfeller\, 78000 Versailles\, France
URL:https://www.fest.fr/e/1996893
UID:1996893-14@fest.fr
END:VEVENT
BEGIN:VEVENT
DTSTART;TZID=Europe/Paris:20260606T180000
DTEND;TZID=Europe/Paris:20260606T190000
SUMMARY:La Voie de l'Ecuyère - Académie Equestre de Versailles
CATEGORIE:Spectacles et théâtre
GEO:48.80313929265700;2.12653615464900
LOCATION:Grande Ecurie du Château de Versailles\, Avenue Rockfeller\, 78000 Versailles\, France
URL:https://www.fest.fr/e/1996893
UID:1996893-15@fest.fr
END:VEVENT
BEGIN:VEVENT
DTSTART;TZID=Europe/Paris:20260607T150000
DTEND;TZID=Europe/Paris:20260607T160000
SUMMARY:La Voie de l'Ecuyère - Académie Equestre de Versailles
CATEGORIE:Spectacles et théâtre
GEO:48.80313929265700;2.12653615464900
LOCATION:Grande Ecurie du Château de Versailles\, Avenue Rockfeller\, 78000 Versailles\, France
URL:https://www.fest.fr/e/1996893
UID:1996893-16@fest.fr
END:VEVENT
BEGIN:VEVENT
DTSTART;TZID=Europe/Paris:20260613T180000
DTEND;TZID=Europe/Paris:20260613T190000
SUMMARY:La Voie de l'Ecuyère - Académie Equestre de Versailles
CATEGORIE:Spectacles et théâtre
GEO:48.80313929265700;2.12653615464900
LOCATION:Grande Ecurie du Château de Versailles\, Avenue Rockfeller\, 78000 Versailles\, France
URL:https://www.fest.fr/e/1996893
UID:1996893-17@fest.fr
END:VEVENT
BEGIN:VEVENT
DTSTART;TZID=Europe/Paris:20260614T150000
DTEND;TZID=Europe/Paris:20260614T160000
SUMMARY:La Voie de l'Ecuyère - Académie Equestre de Versailles
CATEGORIE:Spectacles et théâtre
GEO:48.80313929265700;2.12653615464900
LOCATION:Grande Ecurie du Château de Versailles\, Avenue Rockfeller\, 78000 Versailles\, France
URL:https://www.fest.fr/e/1996893
UID:1996893-18@fest.fr
END:VEVENT
BEGIN:VEVENT
DTSTART;TZID=Europe/Paris:20260620T180000
DTEND;TZID=Europe/Paris:20260620T190000
SUMMARY:La Voie de l'Ecuyère - Académie Equestre de Versailles
CATEGORIE:Spectacles et théâtre
GEO:48.80313929265700;2.12653615464900
LOCATION:Grande Ecurie du Château de Versailles\, Avenue Rockfeller\, 78000 Versailles\, France
URL:https://www.fest.fr/e/1996893
UID:1996893-19@fest.fr
END:VEVENT
BEGIN:VEVENT
DTSTART;TZID=Europe/Paris:20260621T150000
DTEND;TZID=Europe/Paris:20260621T160000
SUMMARY:La Voie de l'Ecuyère - Académie Equestre de Versailles
CATEGORIE:Spectacles et théâtre
GEO:48.80313929265700;2.12653615464900
LOCATION:Grande Ecurie du Château de Versailles\, Avenue Rockfeller\, 78000 Versailles\, France
URL:https://www.fest.fr/e/1996893
UID:1996893-20@fest.fr
END:VEVENT
BEGIN:VEVENT
DTSTART;TZID=Europe/Paris:20260627T180000
DTEND;TZID=Europe/Paris:20260627T190000
SUMMARY:La Voie de l'Ecuyère - Académie Equestre de Versailles
CATEGORIE:Spectacles et théâtre
GEO:48.80313929265700;2.12653615464900
LOCATION:Grande Ecurie du Château de Versailles\, Avenue Rockfeller\, 78000 Versailles\, France
URL:https://www.fest.fr/e/1996893
UID:1996893-21@fest.fr
END:VEVENT
BEGIN:VEVENT
DTSTART;TZID=Europe/Paris:20260628T150000
DTEND;TZID=Europe/Paris:20260628T160000
SUMMARY:La Voie de l'Ecuyère - Académie Equestre de Versailles
CATEGORIE:Spectacles et théâtre
GEO:48.80313929265700;2.12653615464900
LOCATION:Grande Ecurie du Château de Versailles\, Avenue Rockfeller\, 78000 Versailles\, France
URL:https://www.fest.fr/e/1996893
UID:1996893-22@fest.fr
END:VEVENT
BEGIN:VEVENT
DTSTART;TZID=Europe/Paris:20260704T180000
DTEND;TZID=Europe/Paris:20260704T190000
SUMMARY:La Voie de l'Ecuyère - Académie Equestre de Versailles
CATEGORIE:Spectacles et théâtre
GEO:48.80313929265700;2.12653615464900
LOCATION:Grande Ecurie du Château de Versailles\, Avenue Rockfeller\, 78000 Versailles\, France
URL:https://www.fest.fr/e/1996893
UID:1996893-23@fest.fr
END:VEVENT
BEGIN:VEVENT
DTSTART;TZID=Europe/Paris:20260705T170000
DTEND;TZID=Europe/Paris:20260705T180000
SUMMARY:La Voie de l'Ecuyère - Académie Equestre de Versailles
CATEGORIE:Spectacles et théâtre
GEO:48.80313929265700;2.12653615464900
LOCATION:Grande Ecurie du Château de Versailles\, Avenue Rockfeller\, 78000 Versailles\, France
URL:https://www.fest.fr/e/1996893
UID:1996893-24@fest.fr
END:VEVENT
BEGIN:VEVENT
DTSTART;TZID=Europe/Paris:20260708T170000
DTEND;TZID=Europe/Paris:20260708T180000
SUMMARY:La Voie de l'Ecuyère - Académie Equestre de Versailles
CATEGORIE:Spectacles et théâtre
GEO:48.80313929265700;2.12653615464900
LOCATION:Grande Ecurie du Château de Versailles\, Avenue Rockfeller\, 78000 Versailles\, France
URL:https://www.fest.fr/e/1996893
UID:1996893-25@fest.fr
END:VEVENT
BEGIN:VEVENT
DTSTART;TZID=Europe/Paris:20260711T180000
DTEND;TZID=Europe/Paris:20260711T190000
SUMMARY:La Voie de l'Ecuyère - Académie Equestre de Versailles
CATEGORIE:Spectacles et théâtre
GEO:48.80313929265700;2.12653615464900
LOCATION:Grande Ecurie du Château de Versailles\, Avenue Rockfeller\, 78000 Versailles\, France
URL:https://www.fest.fr/e/1996893
UID:1996893-26@fest.fr
END:VEVENT
BEGIN:VEVENT
DTSTART;TZID=Europe/Paris:20260719T170000
DTEND;TZID=Europe/Paris:20260719T180000
SUMMARY:La Voie de l'Ecuyère - Académie Equestre de Versailles
CATEGORIE:Spectacles et théâtre
GEO:48.80313929265700;2.12653615464900
LOCATION:Grande Ecurie du Château de Versailles\, Avenue Rockfeller\, 78000 Versailles\, France
URL:https://www.fest.fr/e/1996893
UID:1996893-27@fest.fr
END:VEVENT
BEGIN:VEVENT
DTSTART;TZID=Europe/Paris:20260725T180000
DTEND;TZID=Europe/Paris:20260725T190000
SUMMARY:La Voie de l'Ecuyère - Académie Equestre de Versailles
CATEGORIE:Spectacles et théâtre
GEO:48.80313929265700;2.12653615464900
LOCATION:Grande Ecurie du Château de Versailles\, Avenue Rockfeller\, 78000 Versailles\, France
URL:https://www.fest.fr/e/1996893
UID:1996893-28@fest.fr
END:VEVENT
BEGIN:VEVENT
DTSTART;TZID=Europe/Paris:20260729T170000
DTEND;TZID=Europe/Paris:20260729T180000
SUMMARY:La Voie de l'Ecuyère - Académie Equestre de Versailles
CATEGORIE:Spectacles et théâtre
GEO:48.80313929265700;2.12653615464900
LOCATION:Grande Ecurie du Château de Versailles\, Avenue Rockfeller\, 78000 Versailles\, France
URL:https://www.fest.fr/e/1996893
UID:1996893-29@fest.fr
END:VEVENT
BEGIN:VEVENT
DTSTART;TZID=Europe/Paris:20260801T180000
DTEND;TZID=Europe/Paris:20260801T190000
SUMMARY:La Voie de l'Ecuyère - Académie Equestre de Versailles
CATEGORIE:Spectacles et théâtre
GEO:48.80313929265700;2.12653615464900
LOCATION:Grande Ecurie du Château de Versailles\, Avenue Rockfeller\, 78000 Versailles\, France
URL:https://www.fest.fr/e/1996893
UID:1996893-30@fest.fr
END:VEVENT
BEGIN:VEVENT
DTSTART;TZID=Europe/Paris:20260802T170000
DTEND;TZID=Europe/Paris:20260802T180000
SUMMARY:La Voie de l'Ecuyère - Académie Equestre de Versailles
CATEGORIE:Spectacles et théâtre
GEO:48.80313929265700;2.12653615464900
LOCATION:Grande Ecurie du Château de Versailles\, Avenue Rockfeller\, 78000 Versailles\, France
URL:https://www.fest.fr/e/1996893
UID:1996893-31@fest.fr
END:VEVENT
BEGIN:VEVENT
DTSTART;TZID=Europe/Paris:20260919T180000
DTEND;TZID=Europe/Paris:20260919T190000
SUMMARY:La Voie de l'Ecuyère - Académie Equestre de Versailles
CATEGORIE:Spectacles et théâtre
GEO:48.80313929265700;2.12653615464900
LOCATION:Grande Ecurie du Château de Versailles\, Avenue Rockfeller\, 78000 Versailles\, France
URL:https://www.fest.fr/e/1996893
UID:1996893-32@fest.fr
END:VEVENT
BEGIN:VEVENT
DTSTART;TZID=Europe/Paris:20260920T150000
DTEND;TZID=Europe/Paris:20260920T160000
SUMMARY:La Voie de l'Ecuyère - Académie Equestre de Versailles
CATEGORIE:Spectacles et théâtre
GEO:48.80313929265700;2.12653615464900
LOCATION:Grande Ecurie du Château de Versailles\, Avenue Rockfeller\, 78000 Versailles\, France
URL:https://www.fest.fr/e/1996893
UID:1996893-33@fest.fr
END:VEVENT
BEGIN:VEVENT
DTSTART;TZID=Europe/Paris:20260926T180000
DTEND;TZID=Europe/Paris:20260926T190000
SUMMARY:La Voie de l'Ecuyère - Académie Equestre de Versailles
CATEGORIE:Spectacles et théâtre
GEO:48.80313929265700;2.12653615464900
LOCATION:Grande Ecurie du Château de Versailles\, Avenue Rockfeller\, 78000 Versailles\, France
URL:https://www.fest.fr/e/1996893
UID:1996893-34@fest.fr
END:VEVENT
BEGIN:VEVENT
DTSTART;TZID=Europe/Paris:20260927T150000
DTEND;TZID=Europe/Paris:20260927T160000
SUMMARY:La Voie de l'Ecuyère - Académie Equestre de Versailles
CATEGORIE:Spectacles et théâtre
GEO:48.80313929265700;2.12653615464900
LOCATION:Grande Ecurie du Château de Versailles\, Avenue Rockfeller\, 78000 Versailles\, France
URL:https://www.fest.fr/e/1996893
UID:1996893-35@fest.fr
END:VEVENT
BEGIN:VEVENT
DTSTART;TZID=Europe/Paris:20261003T180000
DTEND;TZID=Europe/Paris:20261003T190000
SUMMARY:La Voie de l'Ecuyère - Académie Equestre de Versailles
CATEGORIE:Spectacles et théâtre
GEO:48.80313929265700;2.12653615464900
LOCATION:Grande Ecurie du Château de Versailles\, Avenue Rockfeller\, 78000 Versailles\, France
URL:https://www.fest.fr/e/1996893
UID:1996893-36@fest.fr
END:VEVENT
BEGIN:VEVENT
DTSTART;TZID=Europe/Paris:20261004T150000
DTEND;TZID=Europe/Paris:20261004T160000
SUMMARY:La Voie de l'Ecuyère - Académie Equestre de Versailles
CATEGORIE:Spectacles et théâtre
GEO:48.80313929265700;2.12653615464900
LOCATION:Grande Ecurie du Château de Versailles\, Avenue Rockfeller\, 78000 Versailles\, France
URL:https://www.fest.fr/e/1996893
UID:1996893-37@fest.fr
END:VEVENT
BEGIN:VEVENT
DTSTART;TZID=Europe/Paris:20261010T180000
DTEND;TZID=Europe/Paris:20261010T190000
SUMMARY:La Voie de l'Ecuyère - Académie Equestre de Versailles
CATEGORIE:Spectacles et théâtre
GEO:48.80313929265700;2.12653615464900
LOCATION:Grande Ecurie du Château de Versailles\, Avenue Rockfeller\, 78000 Versailles\, France
URL:https://www.fest.fr/e/1996893
UID:1996893-38@fest.fr
END:VEVENT
BEGIN:VEVENT
DTSTART;TZID=Europe/Paris:20261011T150000
DTEND;TZID=Europe/Paris:20261011T160000
SUMMARY:La Voie de l'Ecuyère - Académie Equestre de Versailles
CATEGORIE:Spectacles et théâtre
GEO:48.80313929265700;2.12653615464900
LOCATION:Grande Ecurie du Château de Versailles\, Avenue Rockfeller\, 78000 Versailles\, France
URL:https://www.fest.fr/e/1996893
UID:1996893-39@fest.fr
END:VEVENT
BEGIN:VEVENT
DTSTART;TZID=Europe/Paris:20261017T180000
DTEND;TZID=Europe/Paris:20261017T190000
SUMMARY:La Voie de l'Ecuyère - Académie Equestre de Versailles
CATEGORIE:Spectacles et théâtre
GEO:48.80313929265700;2.12653615464900
LOCATION:Grande Ecurie du Château de Versailles\, Avenue Rockfeller\, 78000 Versailles\, France
URL:https://www.fest.fr/e/1996893
UID:1996893-40@fest.fr
END:VEVENT
BEGIN:VEVENT
DTSTART;TZID=Europe/Paris:20261018T150000
DTEND;TZID=Europe/Paris:20261018T160000
SUMMARY:La Voie de l'Ecuyère - Académie Equestre de Versailles
CATEGORIE:Spectacles et théâtre
GEO:48.80313929265700;2.12653615464900
LOCATION:Grande Ecurie du Château de Versailles\, Avenue Rockfeller\, 78000 Versailles\, France
URL:https://www.fest.fr/e/1996893
UID:1996893-41@fest.fr
END:VEVENT
BEGIN:VEVENT
DTSTART;TZID=Europe/Paris:20261021T150000
DTEND;TZID=Europe/Paris:20261021T160000
SUMMARY:La Voie de l'Ecuyère - Académie Equestre de Versailles
CATEGORIE:Spectacles et théâtre
GEO:48.80313929265700;2.12653615464900
LOCATION:Grande Ecurie du Château de Versailles\, Avenue Rockfeller\, 78000 Versailles\, France
URL:https://www.fest.fr/e/1996893
UID:1996893-42@fest.fr
END:VEVENT
BEGIN:VEVENT
DTSTART;TZID=Europe/Paris:20261024T180000
DTEND;TZID=Europe/Paris:20261024T190000
SUMMARY:La Voie de l'Ecuyère - Académie Equestre de Versailles
CATEGORIE:Spectacles et théâtre
GEO:48.80313929265700;2.12653615464900
LOCATION:Grande Ecurie du Château de Versailles\, Avenue Rockfeller\, 78000 Versailles\, France
URL:https://www.fest.fr/e/1996893
UID:1996893-43@fest.fr
END:VEVENT
BEGIN:VEVENT
DTSTART;TZID=Europe/Paris:20261025T150000
DTEND;TZID=Europe/Paris:20261025T160000
SUMMARY:La Voie de l'Ecuyère - Académie Equestre de Versailles
CATEGORIE:Spectacles et théâtre
GEO:48.80313929265700;2.12653615464900
LOCATION:Grande Ecurie du Château de Versailles\, Avenue Rockfeller\, 78000 Versailles\, France
URL:https://www.fest.fr/e/1996893
UID:1996893-44@fest.fr
END:VEVENT
BEGIN:VEVENT
DTSTART;TZID=Europe/Paris:20261028T150000
DTEND;TZID=Europe/Paris:20261028T160000
SUMMARY:La Voie de l'Ecuyère - Académie Equestre de Versailles
CATEGORIE:Spectacles et théâtre
GEO:48.80313929265700;2.12653615464900
LOCATION:Grande Ecurie du Château de Versailles\, Avenue Rockfeller\, 78000 Versailles\, France
URL:https://www.fest.fr/e/1996893
UID:1996893-45@fest.fr
END:VEVENT
BEGIN:VEVENT
DTSTART;TZID=Europe/Paris:20261031T180000
DTEND;TZID=Europe/Paris:20261031T190000
SUMMARY:La Voie de l'Ecuyère - Académie Equestre de Versailles
CATEGORIE:Spectacles et théâtre
GEO:48.80313929265700;2.12653615464900
LOCATION:Grande Ecurie du Château de Versailles\, Avenue Rockfeller\, 78000 Versailles\, France
URL:https://www.fest.fr/e/1996893
UID:1996893-46@fest.fr
END:VEVENT
BEGIN:VEVENT
DTSTART;TZID=Europe/Paris:20261108T150000
DTEND;TZID=Europe/Paris:20261108T160000
SUMMARY:La Voie de l'Ecuyère - Académie Equestre de Versailles
CATEGORIE:Spectacles et théâtre
GEO:48.80313929265700;2.12653615464900
LOCATION:Grande Ecurie du Château de Versailles\, Avenue Rockfeller\, 78000 Versailles\, France
URL:https://www.fest.fr/e/1996893
UID:1996893-47@fest.fr
END:VEVENT
BEGIN:VEVENT
DTSTART;TZID=Europe/Paris:20261114T180000
DTEND;TZID=Europe/Paris:20261114T190000
SUMMARY:La Voie de l'Ecuyère - Académie Equestre de Versailles
CATEGORIE:Spectacles et théâtre
GEO:48.80313929265700;2.12653615464900
LOCATION:Grande Ecurie du Château de Versailles\, Avenue Rockfeller\, 78000 Versailles\, France
URL:https://www.fest.fr/e/1996893
UID:1996893-48@fest.fr
END:VEVENT
BEGIN:VEVENT
DTSTART;TZID=Europe/Paris:20261121T180000
DTEND;TZID=Europe/Paris:20261121T190000
SUMMARY:La Voie de l'Ecuyère - Académie Equestre de Versailles
CATEGORIE:Spectacles et théâtre
GEO:48.80313929265700;2.12653615464900
LOCATION:Grande Ecurie du Château de Versailles\, Avenue Rockfeller\, 78000 Versailles\, France
URL:https://www.fest.fr/e/1996893
UID:1996893-49@fest.fr
END:VEVENT
BEGIN:VEVENT
DTSTART;TZID=Europe/Paris:20261122T150000
DTEND;TZID=Europe/Paris:20261122T160000
SUMMARY:La Voie de l'Ecuyère - Académie Equestre de Versailles
CATEGORIE:Spectacles et théâtre
GEO:48.80313929265700;2.12653615464900
LOCATION:Grande Ecurie du Château de Versailles\, Avenue Rockfeller\, 78000 Versailles\, France
URL:https://www.fest.fr/e/1996893
UID:1996893-50@fest.fr
END:VEVENT
BEGIN:VEVENT
DTSTART;TZID=Europe/Paris:20261128T180000
DTEND;TZID=Europe/Paris:20261128T190000
SUMMARY:La Voie de l'Ecuyère - Académie Equestre de Versailles
CATEGORIE:Spectacles et théâtre
GEO:48.80313929265700;2.12653615464900
LOCATION:Grande Ecurie du Château de Versailles\, Avenue Rockfeller\, 78000 Versailles\, France
URL:https://www.fest.fr/e/1996893
UID:1996893-51@fest.fr
END:VEVENT
BEGIN:VEVENT
DTSTART;TZID=Europe/Paris:20261129T150000
DTEND;TZID=Europe/Paris:20261129T160000
SUMMARY:La Voie de l'Ecuyère - Académie Equestre de Versailles
CATEGORIE:Spectacles et théâtre
GEO:48.80313929265700;2.12653615464900
LOCATION:Grande Ecurie du Château de Versailles\, Avenue Rockfeller\, 78000 Versailles\, France
URL:https://www.fest.fr/e/1996893
UID:1996893-52@fest.fr
END:VEVENT
BEGIN:VEVENT
DTSTART;TZID=Europe/Paris:20261205T180000
DTEND;TZID=Europe/Paris:20261205T190000
SUMMARY:La Voie de l'Ecuyère - Académie Equestre de Versailles
CATEGORIE:Spectacles et théâtre
GEO:48.80313929265700;2.12653615464900
LOCATION:Grande Ecurie du Château de Versailles\, Avenue Rockfeller\, 78000 Versailles\, France
URL:https://www.fest.fr/e/1996893
UID:1996893-53@fest.fr
END:VEVENT
BEGIN:VEVENT
DTSTART;TZID=Europe/Paris:20261212T180000
DTEND;TZID=Europe/Paris:20261212T190000
SUMMARY:La Voie de l'Ecuyère - Académie Equestre de Versailles
CATEGORIE:Spectacles et théâtre
GEO:48.80313929265700;2.12653615464900
LOCATION:Grande Ecurie du Château de Versailles\, Avenue Rockfeller\, 78000 Versailles\, France
URL:https://www.fest.fr/e/1996893
UID:1996893-54@fest.fr
END:VEVENT
BEGIN:VEVENT
DTSTART;TZID=Europe/Paris:20261213T150000
DTEND;TZID=Europe/Paris:20261213T160000
SUMMARY:La Voie de l'Ecuyère - Académie Equestre de Versailles
CATEGORIE:Spectacles et théâtre
GEO:48.80313929265700;2.12653615464900
LOCATION:Grande Ecurie du Château de Versailles\, Avenue Rockfeller\, 78000 Versailles\, France
URL:https://www.fest.fr/e/1996893
UID:1996893-55@fest.fr
END:VEVENT
BEGIN:VEVENT
DTSTART;TZID=Europe/Paris:20261219T180000
DTEND;TZID=Europe/Paris:20261219T190000
SUMMARY:La Voie de l'Ecuyère - Académie Equestre de Versailles
CATEGORIE:Spectacles et théâtre
GEO:48.80313929265700;2.12653615464900
LOCATION:Grande Ecurie du Château de Versailles\, Avenue Rockfeller\, 78000 Versailles\, France
URL:https://www.fest.fr/e/1996893
UID:1996893-56@fest.fr
END:VEVENT
BEGIN:VEVENT
DTSTART;TZID=Europe/Paris:20261220T150000
DTEND;TZID=Europe/Paris:20261220T160000
SUMMARY:La Voie de l'Ecuyère - Académie Equestre de Versailles
CATEGORIE:Spectacles et théâtre
GEO:48.80313929265700;2.12653615464900
LOCATION:Grande Ecurie du Château de Versailles\, Avenue Rockfeller\, 78000 Versailles\, France
URL:https://www.fest.fr/e/1996893
UID:1996893-57@fest.fr
END:VEVENT
BEGIN:VEVENT
DTSTART;TZID=Europe/Paris:20261223T150000
DTEND;TZID=Europe/Paris:20261223T160000
SUMMARY:La Voie de l'Ecuyère - Académie Equestre de Versailles
CATEGORIE:Spectacles et théâtre
GEO:48.80313929265700;2.12653615464900
LOCATION:Grande Ecurie du Château de Versailles\, Avenue Rockfeller\, 78000 Versailles\, France
URL:https://www.fest.fr/e/1996893
UID:1996893-58@fest.fr
END:VEVENT
BEGIN:VEVENT
DTSTART;TZID=Europe/Paris:20261224T150000
DTEND;TZID=Europe/Paris:20261224T160000
SUMMARY:La Voie de l'Ecuyère - Académie Equestre de Versailles
CATEGORIE:Spectacles et théâtre
GEO:48.80313929265700;2.12653615464900
LOCATION:Grande Ecurie du Château de Versailles\, Avenue Rockfeller\, 78000 Versailles\, France
URL:https://www.fest.fr/e/1996893
UID:1996893-59@fest.fr
END:VEVENT
BEGIN:VEVENT
DTSTART;TZID=Europe/Paris:20261226T180000
DTEND;TZID=Europe/Paris:20261226T190000
SUMMARY:La Voie de l'Ecuyère - Académie Equestre de Versailles
CATEGORIE:Spectacles et théâtre
GEO:48.80313929265700;2.12653615464900
LOCATION:Grande Ecurie du Château de Versailles\, Avenue Rockfeller\, 78000 Versailles\, France
URL:https://www.fest.fr/e/1996893
UID:1996893-60@fest.fr
END:VEVENT
BEGIN:VEVENT
DTSTART;TZID=Europe/Paris:20261227T150000
DTEND;TZID=Europe/Paris:20261227T160000
SUMMARY:La Voie de l'Ecuyère - Académie Equestre de Versailles
CATEGORIE:Spectacles et théâtre
GEO:48.80313929265700;2.12653615464900
LOCATION:Grande Ecurie du Château de Versailles\, Avenue Rockfeller\, 78000 Versailles\, France
URL:https://www.fest.fr/e/1996893
UID:1996893-61@fest.fr
END:VEVENT
BEGIN:VEVENT
DTSTART;TZID=Europe/Paris:20261230T150000
DTEND;TZID=Europe/Paris:20261230T160000
SUMMARY:La Voie de l'Ecuyère - Académie Equestre de Versailles
CATEGORIE:Spectacles et théâtre
GEO:48.80313929265700;2.12653615464900
LOCATION:Grande Ecurie du Château de Versailles\, Avenue Rockfeller\, 78000 Versailles\, France
URL:https://www.fest.fr/e/1996893
UID:1996893-62@fest.fr
END:VEVENT
BEGIN:VEVENT
DTSTART;TZID=Europe/Paris:20261231T150000
DTEND;TZID=Europe/Paris:20261231T160000
SUMMARY:La Voie de l'Ecuyère - Académie Equestre de Versailles
CATEGORIE:Spectacles et théâtre
GEO:48.80313929265700;2.12653615464900
LOCATION:Grande Ecurie du Château de Versailles\, Avenue Rockfeller\, 78000 Versailles\, France
URL:https://www.fest.fr/e/1996893
UID:1996893-63@fest.fr
END:VEVENT
END:VCALENDAR
