BEGIN:VCALENDAR
CALSCALE:GREGORIAN
VERSION:2.0
METHOD:PUBLISH 
X-WR-CALNAME:
BEGIN:VEVENT
DTSTART;TZID=Europe/Paris:20260324T200000
DTEND;TZID=Europe/Paris:20260324T210000
SUMMARY:Eiffel
CATEGORIE:Concerts et musique
GEO:48.87028196161300;2.32825712732700
LOCATION:L'Olympia\, 28, bd des Capucines\, 75009 Paris 9e\, France
URL:https://www.fest.fr/e/1995426
UID:1995426-1@fest.fr
END:VEVENT
END:VCALENDAR
