BEGIN:VCALENDAR
CALSCALE:GREGORIAN
VERSION:2.0
METHOD:PUBLISH 
X-WR-CALNAME:
BEGIN:VEVENT
DTSTART;TZID=Europe/Paris:20260319T200000
DTEND;TZID=Europe/Paris:20260319T210000
SUMMARY:Elie Semoun - Cactus - Tournée
CATEGORIE:Spectacles et théâtre
GEO:48.07507094294800;-0.70013891849200
LOCATION:Centre Culturel les Angenoises\, 55, Rue du Maine\, 53960 Bonchamp-lès-Laval\, France
URL:https://www.fest.fr/e/1995424
UID:1995424-1@fest.fr
END:VEVENT
END:VCALENDAR
