BEGIN:VCALENDAR
CALSCALE:GREGORIAN
VERSION:2.0
METHOD:PUBLISH 
X-WR-CALNAME:
BEGIN:VEVENT
DTSTART;TZID=Europe/Paris:20260321T200000
DTEND;TZID=Europe/Paris:20260321T210000
SUMMARY:Ultra Vomit - Les Zéniths de la Puissance - Tournée
CATEGORIE:Concerts et musique
GEO:49.16896027590200;-0.38326788687200
LOCATION:Zénith de Caen - Normandie\, Rue Joseph Philippon\, 14000 Caen\, France
URL:https://www.fest.fr/e/1987507
UID:1987507-1@fest.fr
END:VEVENT
END:VCALENDAR
