BEGIN:VCALENDAR
CALSCALE:GREGORIAN
VERSION:2.0
METHOD:PUBLISH 
X-WR-CALNAME:
BEGIN:VEVENT
DTSTART;TZID=Europe/Paris:20260604T200000
DTEND;TZID=Europe/Paris:20260604T210000
SUMMARY:Black Legends - Hit The Road - Tournée
CATEGORIE:Spectacles et théâtre
GEO:49.40196176452500;1.06518891259500
LOCATION:Zénith de Rouen\, 44, avenue des Canadiens\, 76120 Le Grand-Quevilly\, France
URL:https://www.fest.fr/e/1985146
UID:1985146-1@fest.fr
END:VEVENT
END:VCALENDAR
