BEGIN:VCALENDAR
CALSCALE:GREGORIAN
VERSION:2.0
METHOD:PUBLISH 
X-WR-CALNAME:
BEGIN:VEVENT
DTSTART;TZID=Europe/Paris:20260324T200000
DTEND;TZID=Europe/Paris:20260324T210000
SUMMARY:Black Legends - Hit The Road - Tournée
CATEGORIE:Spectacles et théâtre
GEO:43.59812528160700;1.40928686944900
LOCATION:Zénith de Toulouse Métropole\, 11, avenue Raymond Badiou\, 31300 TOULOUSE\, France
URL:https://www.fest.fr/e/1985126
UID:1985126-1@fest.fr
END:VEVENT
END:VCALENDAR
