BEGIN:VCALENDAR
CALSCALE:GREGORIAN
VERSION:2.0
METHOD:PUBLISH 
X-WR-CALNAME:
BEGIN:VEVENT
DTSTART;TZID=Europe/Paris:20260418T200000
DTEND;TZID=Europe/Paris:20260418T210000
SUMMARY:Franjo - Tournée
CATEGORIE:Spectacles et théâtre
GEO:48.59739458248700;7.75854267798300
LOCATION:P.M.C - Salle Erasme\, Place de Bordeaux Wacken\, 67000 Strasbourg\, France
URL:https://www.fest.fr/e/1981457
UID:1981457-1@fest.fr
END:VEVENT
END:VCALENDAR
