BEGIN:VCALENDAR
CALSCALE:GREGORIAN
VERSION:2.0
METHOD:PUBLISH 
X-WR-CALNAME:
BEGIN:VEVENT
DTSTART;TZID=Europe/Paris:20260419T150000
DTEND;TZID=Europe/Paris:20260419T160000
SUMMARY:Le Roi Soleil - Tournée
CATEGORIE:Concerts et musique
GEO:43.33399791765000;-0.36424859357600
LOCATION:Le Zénith de Pau\, Rue Suzanne Bacarisse\, 64000 Pau\, France
URL:https://www.fest.fr/e/1979636
UID:1979636-1@fest.fr
END:VEVENT
END:VCALENDAR
