BEGIN:VCALENDAR
CALSCALE:GREGORIAN
VERSION:2.0
METHOD:PUBLISH 
X-WR-CALNAME:
BEGIN:VEVENT
DTSTART;TZID=Europe/Paris:20241019T110000
DTEND;TZID=Europe/Paris:20241019T120000
SUMMARY:Visites guidées
CATEGORIE:Expositions, Visites et Découvertes
GEO:48.67187000000000;0.91434000000000
LOCATION:D941\, 28340 Boissy-lès-Perche\, France
URL:https://www.fest.fr/e/1954222
UID:1954222-1@fest.fr
END:VEVENT
BEGIN:VEVENT
DTSTART;TZID=Europe/Paris:20241123T110000
DTEND;TZID=Europe/Paris:20241123T120000
SUMMARY:Visites guidées
CATEGORIE:Expositions, Visites et Découvertes
GEO:48.67187000000000;0.91434000000000
LOCATION:D941\, 28340 Boissy-lès-Perche\, France
URL:https://www.fest.fr/e/1954222
UID:1954222-2@fest.fr
END:VEVENT
BEGIN:VEVENT
DTSTART;TZID=Europe/Paris:20250125T110000
DTEND;TZID=Europe/Paris:20250125T120000
SUMMARY:Visites guidées
CATEGORIE:Expositions, Visites et Découvertes
GEO:48.67187000000000;0.91434000000000
LOCATION:D941\, 28340 Boissy-lès-Perche\, France
URL:https://www.fest.fr/e/1954222
UID:1954222-3@fest.fr
END:VEVENT
BEGIN:VEVENT
DTSTART;TZID=Europe/Paris:20250222T110000
DTEND;TZID=Europe/Paris:20250222T120000
SUMMARY:Visites guidées
CATEGORIE:Expositions, Visites et Découvertes
GEO:48.67187000000000;0.91434000000000
LOCATION:D941\, 28340 Boissy-lès-Perche\, France
URL:https://www.fest.fr/e/1954222
UID:1954222-4@fest.fr
END:VEVENT
BEGIN:VEVENT
DTSTART;TZID=Europe/Paris:20250322T110000
DTEND;TZID=Europe/Paris:20250322T120000
SUMMARY:Visites guidées
CATEGORIE:Expositions, Visites et Découvertes
GEO:48.67187000000000;0.91434000000000
LOCATION:D941\, 28340 Boissy-lès-Perche\, France
URL:https://www.fest.fr/e/1954222
UID:1954222-5@fest.fr
END:VEVENT
BEGIN:VEVENT
DTSTART;TZID=Europe/Paris:20250524T110000
DTEND;TZID=Europe/Paris:20250524T120000
SUMMARY:Visites guidées
CATEGORIE:Expositions, Visites et Découvertes
GEO:48.67187000000000;0.91434000000000
LOCATION:D941\, 28340 Boissy-lès-Perche\, France
URL:https://www.fest.fr/e/1954222
UID:1954222-6@fest.fr
END:VEVENT
BEGIN:VEVENT
DTSTART;TZID=Europe/Paris:20250621T110000
DTEND;TZID=Europe/Paris:20250621T120000
SUMMARY:Visites guidées
CATEGORIE:Expositions, Visites et Découvertes
GEO:48.67187000000000;0.91434000000000
LOCATION:D941\, 28340 Boissy-lès-Perche\, France
URL:https://www.fest.fr/e/1954222
UID:1954222-7@fest.fr
END:VEVENT
END:VCALENDAR
