BEGIN:VCALENDAR
CALSCALE:GREGORIAN
VERSION:2.0
METHOD:PUBLISH 
X-WR-CALNAME:
BEGIN:VEVENT
DTSTART;TZID=Europe/Paris:20250324T123456
DTEND;TZID=Europe/Paris:20250324T133456
SUMMARY:Foutoir Céleste
CATEGORIE:Cirques
GEO:48.01578030000000;0.16092660000000
LOCATION:Les Sablons
Promenade Newton\, 72000 Le Mans\, France
URL:https://www.fest.fr/e/1902923
UID:1902923-1@fest.fr
END:VEVENT
BEGIN:VEVENT
DTSTART;TZID=Europe/Paris:20250324T140000
DTEND;TZID=Europe/Paris:20250324T150000
SUMMARY:Foutoir Céleste
CATEGORIE:Cirques
GEO:48.01578030000000;0.16092660000000
LOCATION:Les Sablons
Promenade Newton\, 72000 Le Mans\, France
URL:https://www.fest.fr/e/1902923
UID:1902923-2@fest.fr
END:VEVENT
BEGIN:VEVENT
DTSTART;TZID=Europe/Paris:20250325T140000
DTEND;TZID=Europe/Paris:20250325T150000
SUMMARY:Foutoir Céleste
CATEGORIE:Cirques
GEO:48.01578030000000;0.16092660000000
LOCATION:Les Sablons
Promenade Newton\, 72000 Le Mans\, France
URL:https://www.fest.fr/e/1902923
UID:1902923-3@fest.fr
END:VEVENT
BEGIN:VEVENT
DTSTART;TZID=Europe/Paris:20250326T190000
DTEND;TZID=Europe/Paris:20250326T200000
SUMMARY:Foutoir Céleste
CATEGORIE:Cirques
GEO:48.01578030000000;0.16092660000000
LOCATION:Les Sablons
Promenade Newton\, 72000 Le Mans\, France
URL:https://www.fest.fr/e/1902923
UID:1902923-4@fest.fr
END:VEVENT
BEGIN:VEVENT
DTSTART;TZID=Europe/Paris:20250328T203000
DTEND;TZID=Europe/Paris:20250328T213000
SUMMARY:Foutoir Céleste
CATEGORIE:Cirques
GEO:48.01578030000000;0.16092660000000
LOCATION:Les Sablons
Promenade Newton\, 72000 Le Mans\, France
URL:https://www.fest.fr/e/1902923
UID:1902923-5@fest.fr
END:VEVENT
BEGIN:VEVENT
DTSTART;TZID=Europe/Paris:20250329T203000
DTEND;TZID=Europe/Paris:20250329T213000
SUMMARY:Foutoir Céleste
CATEGORIE:Cirques
GEO:48.01578030000000;0.16092660000000
LOCATION:Les Sablons
Promenade Newton\, 72000 Le Mans\, France
URL:https://www.fest.fr/e/1902923
UID:1902923-6@fest.fr
END:VEVENT
BEGIN:VEVENT
DTSTART;TZID=Europe/Paris:20250330T163000
DTEND;TZID=Europe/Paris:20250330T173000
SUMMARY:Foutoir Céleste
CATEGORIE:Cirques
GEO:48.01578030000000;0.16092660000000
LOCATION:Les Sablons
Promenade Newton\, 72000 Le Mans\, France
URL:https://www.fest.fr/e/1902923
UID:1902923-7@fest.fr
END:VEVENT
END:VCALENDAR
