BEGIN:VCALENDAR
CALSCALE:GREGORIAN
VERSION:2.0
METHOD:PUBLISH 
X-WR-CALNAME:
BEGIN:VEVENT
DTSTART;TZID=Europe/Paris:20240801T183000
DTEND;TZID=Europe/Paris:20240801T193000
SUMMARY:Championnat de débouchage de bouteilles
CATEGORIE:Jeux et Concours
GEO:44.17727000000000;0.29567000000000
LOCATION:Lavardac 53 Avenue du Général de Gaulle\, 47230 Lavardac\, France
URL:https://www.fest.fr/e/1814470
UID:1814470-1@fest.fr
END:VEVENT
END:VCALENDAR
