BEGIN:VCALENDAR
CALSCALE:GREGORIAN
VERSION:2.0
METHOD:PUBLISH 
X-WR-CALNAME:
BEGIN:VEVENT
DTSTART;TZID=Europe/Paris:20240413T153000
DTEND;TZID=Europe/Paris:20240413T163000
SUMMARY:2024, année des Danses du Monde
CATEGORIE:Bals et Thés Dansants
GEO:50.69158900000000;3.17417300000000
LOCATION:Divers lieux à Roubaix\, Roubaix\, 59100 Roubaix\, France
URL:https://www.fest.fr/e/1788272
UID:1788272-1@fest.fr
END:VEVENT
END:VCALENDAR
