BEGIN:VCALENDAR
CALSCALE:GREGORIAN
VERSION:2.0
METHOD:PUBLISH 
X-WR-CALNAME:
BEGIN:VEVENT
DTSTART;TZID=Europe/Paris:20240412T200000
DTEND;TZID=Europe/Paris:20240412T210000
SUMMARY:Cie Accorzéâm "La truite"
CATEGORIE:Spectacles et Théâtre
GEO:49.20356300000000;-0.33087660000000
LOCATION:Saison musicale d'Hérouville\, 14200 Hérouville-Saint-Clair\, France
URL:https://www.fest.fr/e/1692344
UID:1692344-1@fest.fr
END:VEVENT
END:VCALENDAR
