BEGIN:VCALENDAR
CALSCALE:GREGORIAN
VERSION:2.0
METHOD:PUBLISH 
X-WR-CALNAME:
BEGIN:VEVENT
DTSTART;TZID=Europe/Paris:20251018T200000
DTEND;TZID=Europe/Paris:20251018T210000
SUMMARY:Julien Doré - Tournée
CATEGORIE:Concerts et musique
GEO:45.18219680260200;0.76175817773700
LOCATION:Le Palio\, Espace Agora, Rue de Soci\, 24750 Boulazac-Isle-Manoire\, France
URL:https://www.fest.fr/e/1657659
UID:1657659-1@fest.fr
END:VEVENT
END:VCALENDAR
