BEGIN:VCALENDAR
CALSCALE:GREGORIAN
VERSION:2.0
METHOD:PUBLISH 
X-WR-CALNAME:
BEGIN:VEVENT
DTSTART;TZID=Europe/Paris:20231108T090000
DTEND;TZID=Europe/Paris:20231108T100000
SUMMARY:Découverte de l'étang du Grand Verdat
CATEGORIE:Expositions, Visites et Découvertes
GEO:48.41726420000000;4.65826310000000
LOCATION:Mairie\, 10500 Épothémont\, France
URL:https://www.fest.fr/e/1644426
UID:1644426-1@fest.fr
END:VEVENT
END:VCALENDAR
