BEGIN:VCALENDAR
CALSCALE:GREGORIAN
VERSION:2.0
METHOD:PUBLISH 
X-WR-CALNAME:
BEGIN:VEVENT
DTSTART;TZID=Europe/Paris:20240128T140000
DTEND;TZID=Europe/Paris:20240128T150000
SUMMARY:Concert
CATEGORIE:Concerts et Musique
GEO:44.87673800000000;-0.52492400000000
LOCATION:Espace culturel du Bois fleuri\, Place du 8 mai 1945\, 33310 Lormont\, France
URL:https://www.fest.fr/e/1632940
UID:1632940-1@fest.fr
END:VEVENT
END:VCALENDAR
