BEGIN:VCALENDAR
CALSCALE:GREGORIAN
VERSION:2.0
METHOD:PUBLISH 
X-WR-CALNAME:
BEGIN:VEVENT
DTSTART;TZID=Europe/Paris:20240807T110000
DTEND;TZID=Europe/Paris:20240807T120000
SUMMARY:Visite guidée de la maison Henri IV
CATEGORIE:Expositions, visites et découvertes
GEO:49.86899790000000;0.71067120000000
LOCATION:Maison Henri IV
Quai d'Aval\, 76460 Saint-Valery-en-Caux\, France
URL:https://www.fest.fr/e/1454485
UID:1454485-1@fest.fr
END:VEVENT
END:VCALENDAR
