BEGIN:VCALENDAR
CALSCALE:GREGORIAN
VERSION:2.0
METHOD:PUBLISH 
X-WR-CALNAME:
BEGIN:VEVENT
DTSTART;TZID=Europe/Paris:20250826T100000
DTEND;TZID=Europe/Paris:20250826T110000
SUMMARY:Ete actif - téléski nautique
CATEGORIE:Sports
GEO:45.41498240000000;1.16439588000000
LOCATION:Rouffiac\, 24270 Angoisse\, France
URL:https://www.fest.fr/e/1423772
UID:1423772-1@fest.fr
END:VEVENT
END:VCALENDAR
