BEGIN:VCALENDAR
CALSCALE:GREGORIAN
VERSION:2.0
METHOD:PUBLISH 
X-WR-CALNAME:
BEGIN:VEVENT
DTSTART;TZID=Europe/Paris:20301031T150000
DTEND;TZID=Europe/Paris:20301031T160000
SUMMARY:Visite guidée
CATEGORIE:Expositions, visites et découvertes
GEO:47.73809800000000;3.59986100000000
LOCATION:Place de la Mairie\, 89290 Champs-sur-Yonne\, France
URL:https://www.fest.fr/e/1174171
UID:1174171-1@fest.fr
END:VEVENT
END:VCALENDAR
